BEGIN:VCALENDAR
VERSION:2.0
PRODID:-//Dům Jógy v Hlavici - ECPv6.15.20//NONSGML v1.0//EN
CALSCALE:GREGORIAN
METHOD:PUBLISH
X-WR-CALNAME:Dům Jógy v Hlavici
X-ORIGINAL-URL:https://joga-hlavice.cz
X-WR-CALDESC:Akce na Dům Jógy v Hlavici
REFRESH-INTERVAL;VALUE=DURATION:PT1H
X-Robots-Tag:noindex
X-PUBLISHED-TTL:PT1H
BEGIN:VTIMEZONE
TZID:Europe/Prague
BEGIN:DAYLIGHT
TZOFFSETFROM:+0100
TZOFFSETTO:+0200
TZNAME:CEST
DTSTART:20230326T010000
END:DAYLIGHT
BEGIN:STANDARD
TZOFFSETFROM:+0200
TZOFFSETTO:+0100
TZNAME:CET
DTSTART:20231029T010000
END:STANDARD
BEGIN:DAYLIGHT
TZOFFSETFROM:+0100
TZOFFSETTO:+0200
TZNAME:CEST
DTSTART:20240331T010000
END:DAYLIGHT
BEGIN:STANDARD
TZOFFSETFROM:+0200
TZOFFSETTO:+0100
TZNAME:CET
DTSTART:20241027T010000
END:STANDARD
BEGIN:DAYLIGHT
TZOFFSETFROM:+0100
TZOFFSETTO:+0200
TZNAME:CEST
DTSTART:20250330T010000
END:DAYLIGHT
BEGIN:STANDARD
TZOFFSETFROM:+0200
TZOFFSETTO:+0100
TZNAME:CET
DTSTART:20251026T010000
END:STANDARD
BEGIN:DAYLIGHT
TZOFFSETFROM:+0100
TZOFFSETTO:+0200
TZNAME:CEST
DTSTART:20260329T010000
END:DAYLIGHT
BEGIN:STANDARD
TZOFFSETFROM:+0200
TZOFFSETTO:+0100
TZNAME:CET
DTSTART:20261025T010000
END:STANDARD
BEGIN:DAYLIGHT
TZOFFSETFROM:+0100
TZOFFSETTO:+0200
TZNAME:CEST
DTSTART:20270328T010000
END:DAYLIGHT
BEGIN:STANDARD
TZOFFSETFROM:+0200
TZOFFSETTO:+0100
TZNAME:CET
DTSTART:20271031T010000
END:STANDARD
END:VTIMEZONE
BEGIN:VEVENT
DTSTART;TZID=Europe/Prague:20240419T190000
DTEND;TZID=Europe/Prague:20240421T190000
DTSTAMP:20260425T122600
CREATED:20231209T153636Z
LAST-MODIFIED:20231209T153636Z
UID:1774-1713553200-1713726000@joga-hlavice.cz
SUMMARY:Přátelé jógy
DESCRIPTION:Tradiční víkend s jógou s Mirkem Kapounem a Mladou Kůrkovou
URL:https://joga-hlavice.cz/kurz/pratele-jogy-2/
LOCATION:Dům Jógy v Hlavici\, Hlavice 15\, Hlavice\, 46348\, Česká republika
ORGANIZER;CN="Miroslav Kapoun":MAILTO:mkapoun@centrum.cz, kapoun.miroslav@gmail.com
END:VEVENT
BEGIN:VEVENT
DTSTART;TZID=Europe/Prague:20240425T173000
DTEND;TZID=Europe/Prague:20240428T173000
DTSTAMP:20260425T122600
CREATED:20231209T153746Z
LAST-MODIFIED:20231209T153746Z
UID:1776-1714066200-1714325400@joga-hlavice.cz
SUMMARY:Jóga v širších souvislostech X/7
DESCRIPTION:Pokračování 10. běhu kurzu pro získání kvalifikace „Instruktor jógy“ se zaměřením na zdravotní aspekty jógy
URL:https://joga-hlavice.cz/kurz/joga-v-sirsich-souvislostech-x-7/
LOCATION:Dům Jógy v Hlavici\, Hlavice 15\, Hlavice\, 46348\, Česká republika
ORGANIZER;CN="D%C5%AFm J%C3%B3gy v Hlavici":MAILTO:info@joga-hlavice.cz
END:VEVENT
BEGIN:VEVENT
DTSTART;TZID=Europe/Prague:20240510T180000
DTEND;TZID=Europe/Prague:20240512T180000
DTSTAMP:20260425T122600
CREATED:20231209T154324Z
LAST-MODIFIED:20231209T155145Z
UID:1780-1715364000-1715536800@joga-hlavice.cz
SUMMARY:Víkend s jógou s Petrou Urbanczykovou
DESCRIPTION:
URL:https://joga-hlavice.cz/kurz/vikend-s-jogou-s-petrou-urbanczykovou/
LOCATION:Dům Jógy v Hlavici\, Hlavice 15\, Hlavice\, 46348\, Česká republika
ORGANIZER;CN="Petra Urbanczykov%C3%A1":MAILTO:Petra.Urbanczykova@seznam.cz
END:VEVENT
BEGIN:VEVENT
DTSTART;TZID=Europe/Prague:20240517T180000
DTEND;TZID=Europe/Prague:20240519T130000
DTSTAMP:20260425T122600
CREATED:20231209T154050Z
LAST-MODIFIED:20231218T163914Z
UID:1778-1715968800-1716123600@joga-hlavice.cz
SUMMARY:Víkend s jógou s Jitkou Wangle
DESCRIPTION:Víkend s jógou a zdravým pohybem pod vedením dvou lektorek.\nZájemci si mohou vyzkoušet pohybovou improvizaci s tanečnicí a choreografkou Audrey Wangle.  \n\nDoprovodný program:   Léčba stravou podle Tradiční čínské  medicíny s MUDr. Danou Miffkovou.   \nZákladní postupy a principy pro zachování zdraví.  \nPrakticky zaměřené přednášky a povídání.  \nSomatotypy lidí podle energie qi  a yin-yang.\nDietetická pravidla pro konkrétní typy + potraviny pro ně vhodné\, nevhodné\, neutrální.
URL:https://joga-hlavice.cz/kurz/vikend-s-jogou-s-jitkou-wangle-3/
LOCATION:Dům Jógy v Hlavici\, Hlavice 15\, Hlavice\, 46348\, Česká republika
ORGANIZER;CN="Jitka Wangle":MAILTO:jitka@jogasjitkou.cz
END:VEVENT
BEGIN:VEVENT
DTSTART;TZID=Europe/Prague:20240524T180000
DTEND;TZID=Europe/Prague:20240526T130000
DTSTAMP:20260425T122600
CREATED:20221231T101046Z
LAST-MODIFIED:20240515T142854Z
UID:1438-1716573600-1716728400@joga-hlavice.cz
SUMMARY:MEDICAL YOGA  s Evou Hager-Forstenlechner z Rakouska
DESCRIPTION:Další\, v pořadí již 8. víkend v Hlavici se spoluautorkou úspěšných publikací Medical Yoga\, expertkou pohybového konceptu Spiraldynamik® a zároveň zkušenou učitelkou Iyengar jógy. \n  \nZaměříme se na důkladnější pochopení správného provedení jógových ásan a pohybů dle přirozených principů anatomie a fyziologie lidského těla\, tentokrát zejména na páteř a kyčelní klouby. \n\nbude veden v němčině s tlumočením do češtiny\nlektorné v EUR (120 EUR) se platí v hotovosti na místě\, částka v Kč (ubytování\, strava a režie) při rezervaci na účet Domu Jógy v Hlavici\nvhodné pro účastníky i absolventy kurzů Jóga v širších souvislostech a pro pokročilejší adepty a učitele jógy\n\n\nzačátek v pátek v 18.00\, pak lehká večeře po 20. hodině\n\n  \nPřihlásit
URL:https://joga-hlavice.cz/kurz/medical-yoga-s-evou-hager-forstenlechner-z-rakouska/
LOCATION:Dům Jógy v Hlavici\, Hlavice 15\, Hlavice\, 46348\, Česká republika
ORGANIZER;CN="D%C5%AFm J%C3%B3gy v Hlavici":MAILTO:info@joga-hlavice.cz
END:VEVENT
BEGIN:VEVENT
DTSTART;TZID=Europe/Prague:20240530T173000
DTEND;TZID=Europe/Prague:20240602T173000
DTSTAMP:20260425T122600
CREATED:20231209T155311Z
LAST-MODIFIED:20231209T155347Z
UID:1785-1717090200-1717349400@joga-hlavice.cz
SUMMARY:Jóga v širších souvislostech X/8
DESCRIPTION:Pokračování 10. běhu kurzu pro získání kvalifikace „Instruktor jógy“ se zaměřením na zdravotní aspekty jógy
URL:https://joga-hlavice.cz/kurz/joga-v-sirsich-souvislostech-x-8/
LOCATION:Dům Jógy v Hlavici\, Hlavice 15\, Hlavice\, 46348\, Česká republika
ORGANIZER;CN="D%C5%AFm J%C3%B3gy v Hlavici":MAILTO:info@joga-hlavice.cz
END:VEVENT
BEGIN:VEVENT
DTSTART;TZID=Europe/Prague:20240622T080000
DTEND;TZID=Europe/Prague:20240623T190000
DTSTAMP:20260425T122600
CREATED:20231209T155535Z
LAST-MODIFIED:20231209T155535Z
UID:1788-1719043200-1719169200@joga-hlavice.cz
SUMMARY:Jóga v širších souvislostech - zkoušky
DESCRIPTION:Závěrečné zkoušky 10. běhu kurzu pro získání kvalifikace „Instruktor jógy“ se zaměřením na zdravotní aspekty jógy
URL:https://joga-hlavice.cz/kurz/joga-v-sirsich-souvislostech-zkousky/
LOCATION:Dům Jógy v Hlavici\, Hlavice 15\, Hlavice\, 46348\, Česká republika
ORGANIZER;CN="D%C5%AFm J%C3%B3gy v Hlavici":MAILTO:info@joga-hlavice.cz
END:VEVENT
BEGIN:VEVENT
DTSTART;TZID=Europe/Prague:20240703T170000
DTEND;TZID=Europe/Prague:20240707T170000
DTSTAMP:20260425T122600
CREATED:20231209T155755Z
LAST-MODIFIED:20231209T155755Z
UID:1790-1720026000-1720371600@joga-hlavice.cz
SUMMARY:Malé jógové prázdniny
DESCRIPTION:Již tradiční prodloužený víkend s jógou a dalším programem pro děti i dospělé s Hankou a Zdeňkem Černými
URL:https://joga-hlavice.cz/kurz/male-jogove-prazdniny/
LOCATION:Dům Jógy v Hlavici\, Hlavice 15\, Hlavice\, 46348\, Česká republika
ORGANIZER;CN="Hanka a Zden%C4%9Bk %C4%8Cern%C3%AD":MAILTO:cerni@atlas.cz, joga@cerni.cz
END:VEVENT
BEGIN:VEVENT
DTSTART;TZID=Europe/Prague:20240722T170000
DTEND;TZID=Europe/Prague:20240728T170000
DTSTAMP:20260425T122600
CREATED:20231209T160555Z
LAST-MODIFIED:20240110T195207Z
UID:1792-1721667600-1722186000@joga-hlavice.cz
SUMMARY:Letní intenzívní týden jógy a jógové terapie
DESCRIPTION:Letní intenzivní týden pro pokročilejší cvičence a lektory jógy s lektorkami instruktorského kurzu Jóga v širších souvislostech MUDr. Marcelou Mikešovou\, Mgr. Kamilou Neumannovou a PhDr. Jitkou Malou. \n\nIntenzivní a přesto pohodový letní týden s jógou\nPro pokročilejší zájemce o jógu\nVhodné pro účastníky i absolventy kurzů Jóga v širších souvislostech a pro pokročilejší adepty a učitele jógy\nRanní pránájáma a meditace\nDopolední cvičení jógových ásan\nOdpoledne věnovaná jógové terapii a fyzioterapii na dané téma\nVečerní přednášky a posezení u ohně\nPo obědě volno na procházky do okolní přírody\, koupání\, odpočinek\,…\n\nTéma: Dýchání a dechová terapie z pohledu jógy a fyzioterapie \nJako host: Mgr. Ondřej Wanke – fyzioterapeut a lektor jógy zaměřený na dechové obtíže a správné dýchání \n \nPřihlásit
URL:https://joga-hlavice.cz/kurz/letni-intenzivni-tyden-jogy-a-jogove-terapie/
LOCATION:Dům Jógy v Hlavici\, Hlavice 15\, Hlavice\, 46348\, Česká republika
ORGANIZER;CN="D%C5%AFm J%C3%B3gy v Hlavici":MAILTO:info@joga-hlavice.cz
END:VEVENT
BEGIN:VEVENT
DTSTART;TZID=Europe/Prague:20240729T140000
DTEND;TZID=Europe/Prague:20240804T140000
DTSTAMP:20260425T122600
CREATED:20231209T160834Z
LAST-MODIFIED:20240104T205832Z
UID:1794-1722261600-1722780000@joga-hlavice.cz
SUMMARY:Letní týden jógy s Ute Kaiser z Německa
DESCRIPTION:Letní intenzívní a přesto pohodový týden se zkušenou německou učitelkou jógy Ute Kaiser. \nKurz bude veden v němčině. \nPřihlásit
URL:https://joga-hlavice.cz/kurz/letni-tyden-jogy-s-ute-kaiser-z-nemecka/
LOCATION:Dům Jógy v Hlavici\, Hlavice 15\, Hlavice\, 46348\, Česká republika
ORGANIZER;CN="D%C5%AFm J%C3%B3gy v Hlavici":MAILTO:info@joga-hlavice.cz
END:VEVENT
BEGIN:VEVENT
DTSTART;TZID=Europe/Prague:20240812T170000
DTEND;TZID=Europe/Prague:20240818T170000
DTSTAMP:20260425T122600
CREATED:20231209T161344Z
LAST-MODIFIED:20240104T212201Z
UID:1796-1723482000-1724000400@joga-hlavice.cz
SUMMARY:Dovolená nejen s jógou
DESCRIPTION:Již tradiční a oblíbený letní týden s jógou a bohatým programem pro dospělé\, náctileté a děti. \n\nJóga pro dospělé s Marcelou Mikešovou a Kamilou Neumannovou\nJóga a program pro náctileté s Jitkou Malou a Kristýnou Neumannovou\nJóga a program pro děti s Karlem a Terezkou Luftovými\n\nDoprovodný program: výtvarné hrátky a tvoření\, další program bude upřesněn \nCena pro děti:\n2-4 roky (a mladší děti účastnící se programu): 5900Kč\n5-8 let: 7300Kč\n9-12 let: 8750Kč  \n  \nPřihlásit
URL:https://joga-hlavice.cz/kurz/dovolena-nejen-s-jogou-2/
LOCATION:Dům Jógy v Hlavici\, Hlavice 15\, Hlavice\, 46348\, Česká republika
ORGANIZER;CN="D%C5%AFm J%C3%B3gy v Hlavici":MAILTO:info@joga-hlavice.cz
END:VEVENT
BEGIN:VEVENT
DTSTART;TZID=Europe/Prague:20240926T173000
DTEND;TZID=Europe/Prague:20240929T173000
DTSTAMP:20260425T122600
CREATED:20231209T162350Z
LAST-MODIFIED:20240112T192519Z
UID:1798-1727371800-1727631000@joga-hlavice.cz
SUMMARY:Spirální jógová terapie 3/1
DESCRIPTION:Začátek pokračovacího kurzu pro lektory jógy po absolvování základního kurzu Jóga v širších souvislostech\, celkem 4 prodloužené víkendy (většinou čtvrtek až neděle): \nKurz bude zaměřen na prohloubení teoretických i praktických znalostí\, rozpoznání špatných pohybových vzorců a návyků a navedení správného pohybu\, držení těla a správného dýchání v jógových polohách. \n\nProbereme také nejčastější zdravotní potíže pohybového aparátu a možnosti jejich ovlivnění jógou.\nVěnovat se budeme i dalším tématům specializované jógy a jógové terapie jako je jóga v menopauze\, cvičení pánevního dna\, cvičení při hypermobilitě\, skolióze\, dechových obtížích a další rozvíjející témata.\nVíce prostoru bude také věnováno terapeutickému využití pránájámy a meditací.\n\nTermíny a témata jednotlivých seminářů: \n1. 26. – 29.9. 2024\ntéma: Úvod\, trup a hlava 1 \n2. 21. – 24.11. 2024\ntéma: Trup a hlava 2 \n3. 16. – 19.1. 2025\ntéma: Dolní končetina \n4. 20. – 23.3. 2025\ntéma: Horní končetina \nPřihlásit se je možné jen na celý cyklus všech čtyř seminářů.
URL:https://joga-hlavice.cz/kurz/spiralni-jogova-terapie-3-1/
LOCATION:Dům Jógy v Hlavici\, Hlavice 15\, Hlavice\, 46348\, Česká republika
ORGANIZER;CN="D%C5%AFm J%C3%B3gy v Hlavici":MAILTO:info@joga-hlavice.cz
END:VEVENT
BEGIN:VEVENT
DTSTART;TZID=Europe/Prague:20241004T180000
DTEND;TZID=Europe/Prague:20241006T130000
DTSTAMP:20260425T122600
CREATED:20231209T162526Z
LAST-MODIFIED:20231218T163703Z
UID:1800-1728064800-1728219600@joga-hlavice.cz
SUMMARY:Víkend s jógou s Jitkou Wangle
DESCRIPTION:Víkend s jógou a zdravým pohybem pod vedením dvou lektorek.  Zájemci si mohou vyzkoušet pohybovou improvizaci s tanečnicí a choreografkou Audrey Wangle.
URL:https://joga-hlavice.cz/kurz/vikend-s-jogou-s-jitkou-wangle-4/
LOCATION:Dům Jógy v Hlavici\, Hlavice 15\, Hlavice\, 46348\, Česká republika
ORGANIZER;CN="Jitka Wangle":MAILTO:jitka@jogasjitkou.cz
END:VEVENT
BEGIN:VEVENT
DTSTART;TZID=Europe/Prague:20241011T180000
DTEND;TZID=Europe/Prague:20241013T140000
DTSTAMP:20260425T122600
CREATED:20240425T113227Z
LAST-MODIFIED:20250111T150858Z
UID:1802-1728669600-1728828000@joga-hlavice.cz
SUMMARY:Víkend s Iyengar a Spirální jógou
DESCRIPTION:                    \nVíkend Iyengar jógy s Mladou Kůrkovou a Spirální jógy s Kamilou Neumannovou \nTéma víkendu:  SMYSLOVÉ ORGÁNY  se zaměřením na zrak a jeho zlepšení \nNa co se můžete těšit kromě cvičení jógových ásan? \n\ncvičení na zlepšení funkce smyslových orgánů (zaměříme se zejména na zlepšení zraku)\npratjáhára (koncentrační cvičení využívajících smyslů) – zrak\, sluch\, hmat (dotyk)\, ale i chuť a čich\nmeditace jedení (je založena nejen na vnímání chutí a vůní\, ale i jiných smyslech ?)\nrelaxační techniky založené na smyslovém vnímání\nranní meditační procházka či pránájáma v přírodě (dle počasí)\n\n\nPro všechny stupně pokročilosti\, i pro začátečníky a ani pokročilí se nudit nebudou ?\n\nPřihlásit
URL:https://joga-hlavice.cz/kurz/vikend-s-iyengar-a-spiralni-jogou/
LOCATION:Dům Jógy v Hlavici\, Hlavice 15\, Hlavice\, 46348\, Česká republika
ORGANIZER;CN="D%C5%AFm J%C3%B3gy v Hlavici":MAILTO:info@joga-hlavice.cz
END:VEVENT
BEGIN:VEVENT
DTSTART;TZID=Europe/Prague:20241018T180000
DTEND;TZID=Europe/Prague:20241020T140000
DTSTAMP:20260425T122600
CREATED:20231209T163355Z
LAST-MODIFIED:20231209T163355Z
UID:1804-1729274400-1729432800@joga-hlavice.cz
SUMMARY:Víkend s jógou s Evou Paskerovou
DESCRIPTION:
URL:https://joga-hlavice.cz/kurz/vikend-s-jogou-s-evou-paskerovou-5/
LOCATION:Dům Jógy v Hlavici\, Hlavice 15\, Hlavice\, 46348\, Česká republika
ORGANIZER;CN="Eva Paskerov%C3%A1":MAILTO:epaskerova@seznam.cz
END:VEVENT
BEGIN:VEVENT
DTSTART;TZID=Europe/Prague:20241121T173000
DTEND;TZID=Europe/Prague:20241124T140000
DTSTAMP:20260425T122600
CREATED:20231209T163559Z
LAST-MODIFIED:20241106T161012Z
UID:1806-1732210200-1732456800@joga-hlavice.cz
SUMMARY:Spirální jógová terapie 3/2
DESCRIPTION:Další prodloužený víkend pokračovacího kurzu pro lektory jógy po absolvování základního kurzu Jóga v širších souvislostech
URL:https://joga-hlavice.cz/kurz/spiralni-jogova-terapie-3-2/
LOCATION:Dům Jógy v Hlavici\, Hlavice 15\, Hlavice\, 46348\, Česká republika
ORGANIZER;CN="D%C5%AFm J%C3%B3gy v Hlavici":MAILTO:info@joga-hlavice.cz
END:VEVENT
BEGIN:VEVENT
DTSTART;TZID=Europe/Prague:20250123T173000
DTEND;TZID=Europe/Prague:20250126T140000
DTSTAMP:20260425T122600
CREATED:20241119T124910Z
LAST-MODIFIED:20241119T124910Z
UID:2063-1737653400-1737900000@joga-hlavice.cz
SUMMARY:Spirální jógová terapie 3/3
DESCRIPTION:Další prodloužený víkend pokračovacího kurzu pro lektory jógy po absolvování základního kurzu Jóga v širších souvislostech
URL:https://joga-hlavice.cz/kurz/spiralni-jogova-terapie-3-3/
LOCATION:Dům Jógy v Hlavici\, Hlavice 15\, Hlavice\, 46348\, Česká republika
ORGANIZER;CN="D%C5%AFm J%C3%B3gy v Hlavici":MAILTO:info@joga-hlavice.cz
END:VEVENT
BEGIN:VEVENT
DTSTART;TZID=Europe/Prague:20250320T173000
DTEND;TZID=Europe/Prague:20250323T140000
DTSTAMP:20260425T122600
CREATED:20241119T125029Z
LAST-MODIFIED:20241119T125029Z
UID:2065-1742491800-1742738400@joga-hlavice.cz
SUMMARY:Spirální jógová terapie 3/4
DESCRIPTION:Další prodloužený víkend pokračovacího kurzu pro lektory jógy po absolvování základního kurzu Jóga v širších souvislostech
URL:https://joga-hlavice.cz/kurz/spiralni-jogova-terapie-3-4/
LOCATION:Dům Jógy v Hlavici\, Hlavice 15\, Hlavice\, 46348\, Česká republika
ORGANIZER;CN="D%C5%AFm J%C3%B3gy v Hlavici":MAILTO:info@joga-hlavice.cz
END:VEVENT
BEGIN:VEVENT
DTSTART;TZID=Europe/Prague:20250404T000000
DTEND;TZID=Europe/Prague:20250406T000000
DTSTAMP:20260425T122600
CREATED:20241119T125525Z
LAST-MODIFIED:20241119T125543Z
UID:2067-1743724800-1743897600@joga-hlavice.cz
SUMMARY:Přátelé jógy
DESCRIPTION:Tradiční jarní setkání přátel jógy otevřené všem zájemcům o jógu  \n\nCvičení zaměřené na aktuální téma jógy   (účastníci obdrží podrobná skripta probíraného tématu)\n\n\nSobotní odpolední výlet\nPro všechny stupně pokročilosti\n\n   Organizátor akce:   Miroslav Kapoun\, e-mail: mkapoun@centrum.cz\, tel. 606 631 498
URL:https://joga-hlavice.cz/kurz/pratele-jogy-3/
LOCATION:Dům Jógy v Hlavici\, Hlavice 15\, Hlavice\, 46348\, Česká republika
ORGANIZER;CN="Miroslav Kapoun":MAILTO:mkapoun@centrum.cz, kapoun.miroslav@gmail.com
END:VEVENT
BEGIN:VEVENT
DTSTART;TZID=Europe/Prague:20250523T180000
DTEND;TZID=Europe/Prague:20250525T133000
DTSTAMP:20260425T122600
CREATED:20241119T131851Z
LAST-MODIFIED:20250115T183602Z
UID:2072-1748023200-1748179800@joga-hlavice.cz
SUMMARY:Víkend jógy a jógové terapie
DESCRIPTION:           \nVíkend se Spirální jógou\, jógovou terapií  a fyzioterapií\ns fyzioterapeutkou Jitkou Malou a učitelkou Spirální jógy Kamilou Neumannovou \nTéma víkendu: Krční páteř a ramena \nKoordinační jógová cvičení a terapeutické techniky pro správné postavení\, uvolnění a protažení krční páteře\, její propojení s postavením hlavy\, ramen a lopatek i vztah k celému tělu i naší psychice. \nV jakém stavu se nachází naše krční páteř\, záleží na postavení celého těla\, jeho ukotvení a stabilizaci. Často trpí špatným používáním a přetěžováním našeho těla. \nSpolečně se podíváme\, jak vypadá správné postavení krční páteře a jak jej nejlépe nastavit. Stav krční páteře můžeme ovlivnit nejlépe přes práci ramen\, lopatek a hrudníku.  Souvisí ale také s postavením pánve\, bederní části páteře a neuvěřitelně i s aktivitou a nastavením chodidel jako základny celého našeho těla. \nUkážeme si některé techniky\, které pomohou krční páteř protáhnout a uvolnit napětí v této oblasti\, zacvičíme jógové pozice a další techniky pro posílení hluboké stabilizace krční páteře. Vysvětlíme si psychosomatické souvislosti mezi fyzickými bolestmi krku a ramen a naší psychickou pohodou. I s tím může jóga pomoci díky mnoha různým relaxačním a dechovým technikám. Některé z nich si vyzkoušíme a naučíme se je používat pro naše běžné dny. \nVyužijeme také okolní krásnou přírodu pro ranní meditační procházky či dechová cvičení v přírodě. \nPřijeďte si do Hlavice užít pohodový víkend v přírodě s příjemnými lidmi\, dobře si zacvičit\, protáhnout a srovnat nejen krční páteř a zároveň zregenerovat své síly a zapomenout na starosti všedního dne. \n  \nPřihlásit
URL:https://joga-hlavice.cz/kurz/vikend-jogy-a-jogove-terapie/
LOCATION:Dům Jógy v Hlavici\, Hlavice 15\, Hlavice\, 46348\, Česká republika
ORGANIZER;CN="D%C5%AFm J%C3%B3gy v Hlavici":MAILTO:info@joga-hlavice.cz
END:VEVENT
BEGIN:VEVENT
DTSTART;TZID=Europe/Prague:20250624T000000
DTEND;TZID=Europe/Prague:20250629T000000
DTSTAMP:20260425T122600
CREATED:20241120T152627Z
LAST-MODIFIED:20241129T181155Z
UID:2074-1750723200-1751155200@joga-hlavice.cz
SUMMARY:5 denní cvičení s Iyengar jógou s Janou Chadimovou
DESCRIPTION:Aktivní dovolená a cvičení Iyengar jógy\, vedená certifikovanou lektorkou.\n\nCvičení bude průřezem toho\, jak je Iyengar metoda aktuálně předávána současnými učiteli v Puně. \nČeká vás 5 dní praxe 2x denně a pravidelná ranní jednoduchá pránájáma\, večerní přednášky nebo povídání na téma zdraví a jóga\, to vše doplněno o lehkou vhodnou stravu ke cvičení a pobyt venku v přírodě Podještědí.\n\n Organizátor akce:    Jana Chadimová\,  e-mail: JChadimova@seznam.cz\,    tel. 774 533 357
URL:https://joga-hlavice.cz/kurz/5-denni-cviceni-s-iyengar-jogou-s-janou-chadimovou/
LOCATION:Dům Jógy v Hlavici\, Hlavice 15\, Hlavice\, 46348\, Česká republika
ORGANIZER;CN="Jana Chadimov%C3%A1":MAILTO:JChadimova@seznam.cz
END:VEVENT
BEGIN:VEVENT
DTSTART;TZID=Europe/Prague:20250702T000000
DTEND;TZID=Europe/Prague:20250706T000000
DTSTAMP:20260425T122600
CREATED:20241120T153532Z
LAST-MODIFIED:20241120T153532Z
UID:2082-1751414400-1751760000@joga-hlavice.cz
SUMMARY:Malé jógové prázdniny
DESCRIPTION:Již tradiční prodloužený víkend s jógou a dalším programem pro děti i dospělé s Hankou a Zdeňkem Černými
URL:https://joga-hlavice.cz/kurz/male-jogove-prazdniny-2/
LOCATION:Dům Jógy v Hlavici\, Hlavice 15\, Hlavice\, 46348\, Česká republika
ORGANIZER;CN="Hanka a Zden%C4%9Bk %C4%8Cern%C3%AD":MAILTO:cerni@atlas.cz, joga@cerni.cz
END:VEVENT
BEGIN:VEVENT
DTSTART;TZID=Europe/Prague:20250721T170000
DTEND;TZID=Europe/Prague:20250727T140000
DTSTAMP:20260425T122600
CREATED:20241120T153503Z
LAST-MODIFIED:20250226T211243Z
UID:2083-1753117200-1753624800@joga-hlavice.cz
SUMMARY:Letní týden jógy a jógové terapie
DESCRIPTION:  \nLetní týden pro pokročilejší cvičence a lektory jógy s lektorkami instruktorského kurzu Jóga v širších souvislostech MUDr. Marcelou Mikešovou\, Mgr. Kamilou Neumannovou a PhDr. Jitkou Malou. \n\nIntenzivní a přesto pohodový letní týden s jógou\nVhodné pro účastníky i absolventy kurzů Jóga v širších souvislostech\na pro pokročilejší adepty a učitele jógy\nRanní pránájáma a meditace\nDopolední cvičení jógových ásan\nOdpoledne věnovaná jógové terapii a fyzioterapii na dané téma\, která povedou:\n\n Jitka Malá\, fyzioterapeutka a vysokoškolská učitelka\njako host Klára Bubeníčková\, fyzioterapeutka a lektorka reflexní zónové terapie na noze dle Hanne Marquardt\n\n\nVečerní přednášky a posezení u ohně\nPo obědě volno na procházky do okolní přírody\, koupání\, odpočinek\,…\n\nTéma:   Dolní končetiny\, kolena a kyčle \n \nPřihlásit
URL:https://joga-hlavice.cz/kurz/letni-tyden-jogy-a-jogove-terapie/
LOCATION:Dům Jógy v Hlavici\, Hlavice 15\, Hlavice\, 46348\, Česká republika
ORGANIZER;CN="D%C5%AFm J%C3%B3gy v Hlavici":MAILTO:info@joga-hlavice.cz
END:VEVENT
BEGIN:VEVENT
DTSTART;TZID=Europe/Prague:20250804T160000
DTEND;TZID=Europe/Prague:20250810T133000
DTSTAMP:20260425T122600
CREATED:20241120T154130Z
LAST-MODIFIED:20250109T204631Z
UID:2088-1754323200-1754832600@joga-hlavice.cz
SUMMARY:Letní týden jógy s Ute Kaiser z Německa
DESCRIPTION:Letní intenzívní a přesto pohodový týden se zkušenou německou učitelkou jógy Ute Kaiser. \nKurz bude veden v němčině. \nPřihlásit
URL:https://joga-hlavice.cz/kurz/letni-tyden-jogy-s-ute-kaiser-z-nemecka-2/
LOCATION:Dům Jógy v Hlavici\, Hlavice 15\, Hlavice\, 46348\, Česká republika
ORGANIZER;CN="D%C5%AFm J%C3%B3gy v Hlavici":MAILTO:info@joga-hlavice.cz
END:VEVENT
BEGIN:VEVENT
DTSTART;TZID=Europe/Prague:20250811T170000
DTEND;TZID=Europe/Prague:20250817T133000
DTSTAMP:20260425T122600
CREATED:20250109T154546Z
LAST-MODIFIED:20250111T150248Z
UID:2090-1754931600-1755437400@joga-hlavice.cz
SUMMARY:Dovolená nejen s jógou pro dospělé\, děti i náctileté
DESCRIPTION:Již tradiční a oblíbený letní týden s jógou a bohatým programem pro dospělé\, náctileté a děti. \n\nJóga pro dospělé s Marcelou Mikešovou a Kamilou Neumannovou\nJóga a program pro náctileté s Jitkou Malou a Kristýnou Neumannovou\nJóga a program pro děti s Karlem a Terezkou Luftovými\n\n\nPro dospělé ranní meditační procházky do okolí\nVýlet do přírody\, posezení u ohně\nProgram pro děti od 3 let i během cvičení rodičů (hry v přírodě\, výšlapy\, tvořivé hrátky\, …)\n\n\nPro všechny stupně pokročilosti – i pro úplné začátečníky\nVhodné pro rodiče nebo prarodiče s dětmi i pro jednotlivce\nZačátek programu v pondělí v 17.00\, ubytování od 15.00\n\nDoprovodný program:\njako již tradičně výtvarné hrátky a tvoření a návštěva na statku s mnoha domácími zvířaty a ukázkou jejich chovu \nCena pro děti:\n2-4 roky (a mladší děti účastnící se programu): 5950Kč\n5-8 let: 7450Kč\n9-12 let: 8970Kč  \nPřihlásit
URL:https://joga-hlavice.cz/kurz/dovolena-nejen-s-jogou-pro-dospele-deti-i-nactilete/
LOCATION:Dům Jógy v Hlavici\, Hlavice 15\, Hlavice\, 46348\, Česká republika
ORGANIZER;CN="D%C5%AFm J%C3%B3gy v Hlavici":MAILTO:info@joga-hlavice.cz
END:VEVENT
BEGIN:VEVENT
DTSTART;TZID=Europe/Prague:20250925T173000
DTEND;TZID=Europe/Prague:20250928T140000
DTSTAMP:20260425T122600
CREATED:20251202T150701Z
LAST-MODIFIED:20251202T150701Z
UID:2360-1758821400-1759068000@joga-hlavice.cz
SUMMARY:JÓGA V ŠIRŠÍCH SOUVISLOSTECH XI/1
DESCRIPTION:Začátek 11. běhu kurzu jako přípravy pro autorizované zkoušky k získání kvalifikace „Instruktor jógy“ se zaměřením na zdravotní aspekty jógy
URL:https://joga-hlavice.cz/kurz/joga-v-sirsich-souvislostech-xi-1/
LOCATION:Dům Jógy v Hlavici\, Hlavice 15\, Hlavice\, 46348\, Česká republika
ORGANIZER;CN="D%C5%AFm J%C3%B3gy v Hlavici":MAILTO:info@joga-hlavice.cz
END:VEVENT
BEGIN:VEVENT
DTSTART;TZID=Europe/Prague:20251017T180000
DTEND;TZID=Europe/Prague:20251019T133000
DTSTAMP:20260425T122600
CREATED:20250102T162555Z
LAST-MODIFIED:20250929T141809Z
UID:2129-1760724000-1760880600@joga-hlavice.cz
SUMMARY:Víkend s Iyengar a Spirální jógou
DESCRIPTION:            \nVíkend Iyengar jógy s Mladou Kůrkovou a Spirální jógy s Kamilou Neumannovou \n\nIyengar a Spirální jóga dvakrát denně – cvičení bude tentokrát zaměřeno na protažení a srovnání velkých kloubů:\nRAMENA\, KYČLE a KOLENA\nRanní meditační procházka či pránájáma v přírodě (dle počasí)\n\n\nPro všechny stupně pokročilosti\, i pro začátečníky a ani pokročilí se nudit nebudou ?\nDoprovodný program: Kakaová ceremonie\, povídání o kakau a vedená meditace s Eliškou Kunt\n\nPřihlásit
URL:https://joga-hlavice.cz/kurz/vikend-s-iyengar-a-spiralni-jogou-2/
LOCATION:Dům Jógy v Hlavici\, Hlavice 15\, Hlavice\, 46348\, Česká republika
ORGANIZER;CN="D%C5%AFm J%C3%B3gy v Hlavici":MAILTO:info@joga-hlavice.cz
END:VEVENT
BEGIN:VEVENT
DTSTART;TZID=Europe/Prague:20251114T173000
DTEND;TZID=Europe/Prague:20251117T140000
DTSTAMP:20260425T122600
CREATED:20251204T145109Z
LAST-MODIFIED:20251204T145406Z
UID:2374-1763141400-1763388000@joga-hlavice.cz
SUMMARY:JÓGA V ŠIRŠÍCH SOUVISLOSTECH XI/2
DESCRIPTION:Pokračování komplexního přípravného kurzu pro autorizované zkoušky k získání kvalifikace „Instruktor jógy“ se zaměřením na zdravotní aspekty jógy \n 
URL:https://joga-hlavice.cz/kurz/joga-v-sirsich-souvislostech-xi-2/
LOCATION:Dům Jógy v Hlavici\, Hlavice 15\, Hlavice\, 46348\, Česká republika
ORGANIZER;CN="D%C5%AFm J%C3%B3gy v Hlavici":MAILTO:info@joga-hlavice.cz
END:VEVENT
BEGIN:VEVENT
DTSTART;TZID=Europe/Prague:20260115T100000
DTEND;TZID=Europe/Prague:20260117T130000
DTSTAMP:20260425T122600
CREATED:20251204T151125Z
LAST-MODIFIED:20251205T150830Z
UID:2381-1768471200-1768654800@joga-hlavice.cz
SUMMARY:Koordinace dechu a stabilizačních funkcí v jógových pozicích
DESCRIPTION:Tento intenzivní třídenní seminář je určen pro pokročilé cvičící jógu\, lektory jógy\, fyzioterapeuty a pohybové specialisty\, kteří chtějí prohloubit své znalosti o propojení jógové praxe s principy hlubokého stabilizačního systému (HSS).\n \nPořádá Fakulta tělesné výchovy a sportu UK Praha. \nSeminář povedou lektorky Jógy v širších souvislostech Jitka Malá\, Marcela Mikešová a Kamila Neumannová. \nÚčastníci se seznámí s aktuálními poznatky o funkci hlubokých svalových struktur (bránice\, pánevní dno\, příčný břišní sval\, multifidy) a jejich vlivu na držení těla\, dechový vzorec\, stabilitu a kvalitu pohybu. Skrze jógové ásany\, dechové techniky a cílené aktivace HSS budeme hledat rovnováhu mezi mobilitou a stabilitou\, mezi vnímáním těla a jeho funkčním využitím.\n\nCo vás čeká:\n\n\n\nteoretické bloky s přesahem do fyzioterapie a neurofyziologie\npraktické lekce jógy s důrazem na aktivaci HSS\nanalýza pohybových vzorců a jejich korekce\npráce s dechem jako nástrojem stabilizace i relaxace\nsdílení zkušeností a případových studií z praxe\n\n\n\nBližší informace a přihlášky na webu FTVS UK Praha
URL:https://joga-hlavice.cz/kurz/koordinace-dechu-a-stabilizacnich-funkci-v-jogovych-pozicich/
LOCATION:Dům Jógy v Hlavici\, Hlavice 15\, Hlavice\, 46348\, Česká republika
END:VEVENT
BEGIN:VEVENT
DTSTART;TZID=Europe/Prague:20260122T173000
DTEND;TZID=Europe/Prague:20260125T140000
DTSTAMP:20260425T122600
CREATED:20251204T145548Z
LAST-MODIFIED:20251230T170317Z
UID:2378-1769103000-1769349600@joga-hlavice.cz
SUMMARY:JÓGA V ŠIRŠÍCH SOUVISLOSTECH XI/3
DESCRIPTION:Pokračování komplexního přípravného kurzu pro autorizované zkoušky k získání kvalifikace „Instruktor jógy“ se zaměřením na zdravotní aspekty jógy
URL:https://joga-hlavice.cz/kurz/joga-v-sirsich-souvislostech-xi-3/
LOCATION:Dům Jógy v Hlavici\, Hlavice 15\, Hlavice\, 46348\, Česká republika
ORGANIZER;CN="D%C5%AFm J%C3%B3gy v Hlavici":MAILTO:info@joga-hlavice.cz
END:VEVENT
END:VCALENDAR